BEGIN:VCALENDAR
VERSION:2.0
PRODID:-//Olympic Valley Public Service District - ECPv6.15.17.1//NONSGML v1.0//EN
CALSCALE:GREGORIAN
METHOD:PUBLISH
X-WR-CALNAME:Olympic Valley Public Service District
X-ORIGINAL-URL:https://ovpsd.org
X-WR-CALDESC:Events for Olympic Valley Public Service District
REFRESH-INTERVAL;VALUE=DURATION:PT1H
X-Robots-Tag:noindex
X-PUBLISHED-TTL:PT1H
BEGIN:VTIMEZONE
TZID:America/Los_Angeles
BEGIN:DAYLIGHT
TZOFFSETFROM:-0800
TZOFFSETTO:-0700
TZNAME:PDT
DTSTART:20250309T100000
END:DAYLIGHT
BEGIN:STANDARD
TZOFFSETFROM:-0700
TZOFFSETTO:-0800
TZNAME:PST
DTSTART:20251102T090000
END:STANDARD
BEGIN:DAYLIGHT
TZOFFSETFROM:-0800
TZOFFSETTO:-0700
TZNAME:PDT
DTSTART:20260308T100000
END:DAYLIGHT
BEGIN:STANDARD
TZOFFSETFROM:-0700
TZOFFSETTO:-0800
TZNAME:PST
DTSTART:20261101T090000
END:STANDARD
BEGIN:DAYLIGHT
TZOFFSETFROM:-0800
TZOFFSETTO:-0700
TZNAME:PDT
DTSTART:20270314T100000
END:DAYLIGHT
BEGIN:STANDARD
TZOFFSETFROM:-0700
TZOFFSETTO:-0800
TZNAME:PST
DTSTART:20271107T090000
END:STANDARD
END:VTIMEZONE
BEGIN:VEVENT
DTSTART;TZID=America/Los_Angeles:20260428T080000
DTEND;TZID=America/Los_Angeles:20260428T083000
DTSTAMP:20260420T193626
CREATED:20251222T234031Z
LAST-MODIFIED:20251222T234031Z
UID:2904-1777363200-1777365000@ovpsd.org
SUMMARY:April 2026 Finance Committee Meeting
DESCRIPTION:The OVPSD Finance Committee meets regularly before each month’s Regular Board Meeting. Meetings typically occur on the last Tuesday of each month at 8:00 a.m.\, except in November and December\, due to the 2026 holidays. They take place in Room 212 at 305 Olympic Valley Road.
URL:https://ovpsd.org/calendar/april-2026-finance-committee-meeting/
END:VEVENT
BEGIN:VEVENT
DTSTART;TZID=America/Los_Angeles:20260428T083000
DTEND;TZID=America/Los_Angeles:20260428T120000
DTSTAMP:20260420T193626
CREATED:20251222T230913Z
LAST-MODIFIED:20251222T230913Z
UID:2892-1777365000-1777377600@ovpsd.org
SUMMARY:April 2026 Board Meeting
DESCRIPTION:The OVPSD Board of Directors meets regularly on the last Tuesday of each month at 8:30 a.m.\, except in November and December\, due to the 2026 holidays. Meeting length/end time will vary. \nMeetings take place in the Community Room at 305 Olympic Valley Road.
URL:https://ovpsd.org/calendar/april-2026-board-meeting/
END:VEVENT
BEGIN:VEVENT
DTSTART;TZID=America/Los_Angeles:20260526T080000
DTEND;TZID=America/Los_Angeles:20260526T083000
DTSTAMP:20260420T193626
CREATED:20251222T234106Z
LAST-MODIFIED:20251222T234106Z
UID:2905-1779782400-1779784200@ovpsd.org
SUMMARY:May 2026 Finance Committee Meeting
DESCRIPTION:The OVPSD Finance Committee meets regularly before each month’s Regular Board Meeting. Meetings typically occur on the last Tuesday of each month at 8:00 a.m.\, except in November and December\, due to the 2026 holidays. They take place in Room 212 at 305 Olympic Valley Road.
URL:https://ovpsd.org/calendar/may-2026-finance-committee-meeting/
END:VEVENT
BEGIN:VEVENT
DTSTART;TZID=America/Los_Angeles:20260526T083000
DTEND;TZID=America/Los_Angeles:20260526T120000
DTSTAMP:20260420T193626
CREATED:20251222T230959Z
LAST-MODIFIED:20251222T230959Z
UID:2893-1779784200-1779796800@ovpsd.org
SUMMARY:May 2026 Board Meeting
DESCRIPTION:The OVPSD Board of Directors meets regularly on the last Tuesday of each month at 8:30 a.m.\, except in November and December\, due to the 2026 holidays. Meeting length/end time will vary. \nMeetings take place in the Community Room at 305 Olympic Valley Road.
URL:https://ovpsd.org/calendar/may-2026-board-meeting/
END:VEVENT
BEGIN:VEVENT
DTSTART;TZID=America/Los_Angeles:20260630T080000
DTEND;TZID=America/Los_Angeles:20260630T083000
DTSTAMP:20260420T193626
CREATED:20251222T234143Z
LAST-MODIFIED:20251222T234143Z
UID:2906-1782806400-1782808200@ovpsd.org
SUMMARY:June 2026 Finance Committee Meeting
DESCRIPTION:The OVPSD Finance Committee meets regularly before each month’s Regular Board Meeting. Meetings typically occur on the last Tuesday of each month at 8:00 a.m.\, except in November and December\, due to the 2026 holidays. They take place in Room 212 at 305 Olympic Valley Road.
URL:https://ovpsd.org/calendar/june-2026-finance-committee-meeting/
END:VEVENT
BEGIN:VEVENT
DTSTART;TZID=America/Los_Angeles:20260630T083000
DTEND;TZID=America/Los_Angeles:20260630T120000
DTSTAMP:20260420T193626
CREATED:20251222T231036Z
LAST-MODIFIED:20251222T231036Z
UID:2894-1782808200-1782820800@ovpsd.org
SUMMARY:June 2026 Board Meeting
DESCRIPTION:The OVPSD Board of Directors meets regularly on the last Tuesday of each month at 8:30 a.m.\, except in November and December\, due to the 2026 holidays. Meeting length/end time will vary. \nMeetings take place in the Community Room at 305 Olympic Valley Road.
URL:https://ovpsd.org/calendar/june-2026-board-meeting/
END:VEVENT
BEGIN:VEVENT
DTSTART;TZID=America/Los_Angeles:20260728T080000
DTEND;TZID=America/Los_Angeles:20260728T083000
DTSTAMP:20260420T193626
CREATED:20251222T234210Z
LAST-MODIFIED:20251222T234210Z
UID:2907-1785225600-1785227400@ovpsd.org
SUMMARY:July 2026 Finance Committee Meeting
DESCRIPTION:The OVPSD Finance Committee meets regularly before each month’s Regular Board Meeting. Meetings typically occur on the last Tuesday of each month at 8:00 a.m.\, except in November and December\, due to the 2026 holidays. They take place in Room 212 at 305 Olympic Valley Road.
URL:https://ovpsd.org/calendar/july-2026-finance-committee-meeting/
END:VEVENT
BEGIN:VEVENT
DTSTART;TZID=America/Los_Angeles:20260728T083000
DTEND;TZID=America/Los_Angeles:20260728T120000
DTSTAMP:20260420T193626
CREATED:20251222T231110Z
LAST-MODIFIED:20251222T231110Z
UID:2895-1785227400-1785240000@ovpsd.org
SUMMARY:July 2026 Board Meeting
DESCRIPTION:The OVPSD Board of Directors meets regularly on the last Tuesday of each month at 8:30 a.m.\, except in November and December\, due to the 2026 holidays. Meeting length/end time will vary. \nMeetings take place in the Community Room at 305 Olympic Valley Road.
URL:https://ovpsd.org/calendar/july-2026-board-meeting/
END:VEVENT
BEGIN:VEVENT
DTSTART;TZID=America/Los_Angeles:20260825T080000
DTEND;TZID=America/Los_Angeles:20260825T083000
DTSTAMP:20260420T193626
CREATED:20251222T234242Z
LAST-MODIFIED:20251222T234242Z
UID:2908-1787644800-1787646600@ovpsd.org
SUMMARY:August 2026 Finance Committee Meeting
DESCRIPTION:The OVPSD Finance Committee meets regularly before each month’s Regular Board Meeting. Meetings typically occur on the last Tuesday of each month at 8:00 a.m.\, except in November and December\, due to the 2026 holidays. They take place in Room 212 at 305 Olympic Valley Road.
URL:https://ovpsd.org/calendar/august-2026-finance-committee-meeting/
END:VEVENT
BEGIN:VEVENT
DTSTART;TZID=America/Los_Angeles:20260825T083000
DTEND;TZID=America/Los_Angeles:20260825T120000
DTSTAMP:20260420T193626
CREATED:20251222T231147Z
LAST-MODIFIED:20251222T231147Z
UID:2896-1787646600-1787659200@ovpsd.org
SUMMARY:August 2026 Board Meeting
DESCRIPTION:The OVPSD Board of Directors meets regularly on the last Tuesday of each month at 8:30 a.m.\, except in November and December\, due to the 2026 holidays. Meeting length/end time will vary. \nMeetings take place in the Community Room at 305 Olympic Valley Road.
URL:https://ovpsd.org/calendar/august-2026-board-meeting/
END:VEVENT
BEGIN:VEVENT
DTSTART;TZID=America/Los_Angeles:20260929T080000
DTEND;TZID=America/Los_Angeles:20260929T083000
DTSTAMP:20260420T193626
CREATED:20251222T234321Z
LAST-MODIFIED:20251222T234321Z
UID:2909-1790668800-1790670600@ovpsd.org
SUMMARY:September 2026 Finance Committee Meeting
DESCRIPTION:The OVPSD Finance Committee meets regularly before each month’s Regular Board Meeting. Meetings typically occur on the last Tuesday of each month at 8:00 a.m.\, except in November and December\, due to the 2026 holidays. They take place in Room 212 at 305 Olympic Valley Road.
URL:https://ovpsd.org/calendar/september-2026-finance-committee-meeting/
END:VEVENT
BEGIN:VEVENT
DTSTART;TZID=America/Los_Angeles:20260929T083000
DTEND;TZID=America/Los_Angeles:20260929T120000
DTSTAMP:20260420T193626
CREATED:20251222T233513Z
LAST-MODIFIED:20251222T233601Z
UID:2897-1790670600-1790683200@ovpsd.org
SUMMARY:September 2026 Board Meeting
DESCRIPTION:The OVPSD Board of Directors meets regularly on the last Tuesday of each month at 8:30 a.m.\, except in November and December\, due to the 2026 holidays. Meeting length/end time will vary. \nMeetings take place in the Community Room at 305 Olympic Valley Road.
URL:https://ovpsd.org/calendar/september-2026-board-meeting/
END:VEVENT
BEGIN:VEVENT
DTSTART;TZID=America/Los_Angeles:20261027T080000
DTEND;TZID=America/Los_Angeles:20261027T083000
DTSTAMP:20260420T193626
CREATED:20251222T234433Z
LAST-MODIFIED:20251222T234433Z
UID:2911-1793088000-1793089800@ovpsd.org
SUMMARY:October 2026 Finance Committee Meeting
DESCRIPTION:The OVPSD Finance Committee meets regularly before each month’s Regular Board Meeting. Meetings typically occur on the last Tuesday of each month at 8:00 a.m.\, except in November and December\, due to the 2026 holidays. They take place in Room 212 at 305 Olympic Valley Road.
URL:https://ovpsd.org/calendar/october-2026-finance-committee-meeting/
END:VEVENT
BEGIN:VEVENT
DTSTART;TZID=America/Los_Angeles:20261027T083000
DTEND;TZID=America/Los_Angeles:20261027T120000
DTSTAMP:20260420T193626
CREATED:20251222T233547Z
LAST-MODIFIED:20251222T233547Z
UID:2898-1793089800-1793102400@ovpsd.org
SUMMARY:October 2026 Board Meeting
DESCRIPTION:The OVPSD Board of Directors meets regularly on the last Tuesday of each month at 8:30 a.m.\, except in November and December\, due to the 2026 holidays. Meeting length/end time will vary. \nMeetings take place in the Community Room at 305 Olympic Valley Road.
URL:https://ovpsd.org/calendar/october-2026-board-meeting/
END:VEVENT
BEGIN:VEVENT
DTSTART;TZID=America/Los_Angeles:20261117T080000
DTEND;TZID=America/Los_Angeles:20261117T083000
DTSTAMP:20260420T193626
CREATED:20251222T234405Z
LAST-MODIFIED:20251222T234405Z
UID:2910-1794902400-1794904200@ovpsd.org
SUMMARY:November 2026 Finance Committee Meeting
DESCRIPTION:The OVPSD Finance Committee meets regularly before each month’s Regular Board Meeting. Meetings typically occur on the last Tuesday of each month at 8:00 a.m.\, except in November and December\, due to the 2026 holidays. They take place in Room 212 at 305 Olympic Valley Road.
URL:https://ovpsd.org/calendar/november-2026-finance-committee-meeting/
END:VEVENT
BEGIN:VEVENT
DTSTART;TZID=America/Los_Angeles:20261117T083000
DTEND;TZID=America/Los_Angeles:20261117T120000
DTSTAMP:20260420T193626
CREATED:20251222T233634Z
LAST-MODIFIED:20251222T233634Z
UID:2899-1794904200-1794916800@ovpsd.org
SUMMARY:November 2026 Board Meeting
DESCRIPTION:The OVPSD Board of Directors meets regularly on the last Tuesday of each month at 8:30 a.m.\, except in November and December\, due to the 2026 holidays. Meeting length/end time will vary. \nMeetings take place in the Community Room at 305 Olympic Valley Road.
URL:https://ovpsd.org/calendar/november-2026-board-meeting/
END:VEVENT
BEGIN:VEVENT
DTSTART;TZID=America/Los_Angeles:20261215T080000
DTEND;TZID=America/Los_Angeles:20261215T083000
DTSTAMP:20260420T193626
CREATED:20251222T234508Z
LAST-MODIFIED:20251222T234556Z
UID:2912-1797321600-1797323400@ovpsd.org
SUMMARY:December 2026 Finance Committee Meeting
DESCRIPTION:The OVPSD Finance Committee meets regularly before each month’s Regular Board Meeting. Meetings typically occur on the last Tuesday of each month at 8:00 a.m.\, except in November and December\, due to the 2026 holidays. They take place in Room 212 at 305 Olympic Valley Road.
URL:https://ovpsd.org/calendar/december-2026-finance-committee-meeting/
END:VEVENT
BEGIN:VEVENT
DTSTART;TZID=America/Los_Angeles:20261215T083000
DTEND;TZID=America/Los_Angeles:20261215T120000
DTSTAMP:20260420T193626
CREATED:20251222T233710Z
LAST-MODIFIED:20251222T234540Z
UID:2900-1797323400-1797336000@ovpsd.org
SUMMARY:December 2026 Board Meeting
DESCRIPTION:The OVPSD Board of Directors meets regularly on the last Tuesday of each month at 8:30 a.m.\, except in November and December\, due to the 2026 holidays. Meeting length/end time will vary. \nMeetings take place in the Community Room at 305 Olympic Valley Road.
URL:https://ovpsd.org/calendar/december-2026/
END:VEVENT
END:VCALENDAR